Package: ReadqPCR Version: 1.54.0 Command: /home/biocbuild/bbs-3.21-bioc/R/bin/R CMD build --keep-empty-dirs --no-resave-data ReadqPCR StartedAt: 2025-10-15 19:24:40 -0400 (Wed, 15 Oct 2025) EndedAt: 2025-10-15 19:24:48 -0400 (Wed, 15 Oct 2025) EllapsedTime: 8.0 seconds RetCode: 0 Status: OK PackageFile: ReadqPCR_1.54.0.tar.gz PackageFileSize: 491.1 KiB