Package: ReadqPCR Version: 1.56.0 Command: /Library/Frameworks/R.framework/Resources/bin/R CMD INSTALL ReadqPCR StartedAt: 2025-10-30 15:13:40 -0400 (Thu, 30 Oct 2025) EndedAt: 2025-10-30 15:13:56 -0400 (Thu, 30 Oct 2025) EllapsedTime: 16.0 seconds RetCode: 0 Status: OK