Package: ReactomePA Version: 1.54.0 Command: /home/biocbuild/R/R/bin/R CMD INSTALL ReactomePA StartedAt: 2025-11-10 21:59:44 -0000 (Mon, 10 Nov 2025) EndedAt: 2025-11-10 22:00:16 -0000 (Mon, 10 Nov 2025) EllapsedTime: 32.8 seconds RetCode: 0 Status: OK