Package: ReactomePA Version: 1.54.0 Command: /home/biocbuild/R/R/bin/R CMD build --keep-empty-dirs --no-resave-data ReactomePA StartedAt: 2025-11-11 04:25:27 -0000 (Tue, 11 Nov 2025) EndedAt: 2025-11-11 04:26:09 -0000 (Tue, 11 Nov 2025) EllapsedTime: 42.0 seconds RetCode: 0 Status: OK PackageFile: ReactomePA_1.54.0.tar.gz PackageFileSize: 58.54 KiB