Package: ReactomePA Version: 1.52.0 Command: rm -rf ReactomePA.buildbin-libdir && mkdir ReactomePA.buildbin-libdir && E:\biocbuild\bbs-3.21-bioc\R\bin\R.exe CMD INSTALL --build --library=ReactomePA.buildbin-libdir ReactomePA_1.52.0.tar.gz StartedAt: 2025-08-15 10:04:00 -0400 (Fri, 15 Aug 2025) EndedAt: 2025-08-15 10:04:35 -0400 (Fri, 15 Aug 2025) EllapsedTime: 35.3 seconds RetCode: 0 Status: OK PackageFile: ReactomePA_1.52.0.zip PackageFileSize: 95.08 KiB