Package: ReactomePA Version: 1.54.0 Command: /home/biocbuild/bbs-3.22-bioc/R/bin/R CMD INSTALL ReactomePA StartedAt: 2025-11-11 15:51:08 -0500 (Tue, 11 Nov 2025) EndedAt: 2025-11-11 15:51:32 -0500 (Tue, 11 Nov 2025) EllapsedTime: 23.8 seconds RetCode: 0 Status: OK