Package: ReactomePA Version: 1.54.0 Command: /home/biocbuild/bbs-3.22-bioc/R/bin/R CMD check --install=check:ReactomePA.install-out.txt --library=/home/biocbuild/bbs-3.22-bioc/R/site-library --timings ReactomePA_1.54.0.tar.gz StartedAt: 2025-11-12 03:13:43 -0500 (Wed, 12 Nov 2025) EndedAt: 2025-11-12 03:18:01 -0500 (Wed, 12 Nov 2025) EllapsedTime: 258.2 seconds RetCode: 0 Status: OK CheckDir: ReactomePA.Rcheck Warnings: 0