Package: ReactomeGraph4R Version: 1.18.0 Command: /home/biocbuild/R/R/bin/R CMD INSTALL ReactomeGraph4R StartedAt: 2025-11-10 22:20:30 -0000 (Mon, 10 Nov 2025) EndedAt: 2025-11-10 22:20:30 -0000 (Mon, 10 Nov 2025) EllapsedTime: 0.3 seconds RetCode: 1 Status: ERROR