Package: ReactomeGraph4R Version: 1.18.0 Command: /home/biocbuild/bbs-3.22-bioc/R/bin/R CMD build --keep-empty-dirs --no-resave-data --md5 ReactomeGraph4R StartedAt: 2025-11-11 19:40:43 -0500 (Tue, 11 Nov 2025) EndedAt: 2025-11-11 19:40:44 -0500 (Tue, 11 Nov 2025) EllapsedTime: 1.0 seconds RetCode: 1 Status: ERROR PackageFile: None PackageFileSize: NA