Package: ReactomeGSA Version: 1.24.0 Command: /home/biocbuild/R/R/bin/R CMD INSTALL ReactomeGSA StartedAt: 2025-11-10 22:06:08 -0000 (Mon, 10 Nov 2025) EndedAt: 2025-11-10 22:06:21 -0000 (Mon, 10 Nov 2025) EllapsedTime: 12.9 seconds RetCode: 0 Status: OK