Package: ReactomeGSA Version: 1.24.0 Command: /home/biocbuild/R/R/bin/R CMD check --install=check:ReactomeGSA.install-out.txt --library=/home/biocbuild/R/R/site-library --no-vignettes --timings ReactomeGSA_1.24.0.tar.gz StartedAt: 2025-11-11 13:40:25 -0000 (Tue, 11 Nov 2025) EndedAt: 2025-11-11 13:52:08 -0000 (Tue, 11 Nov 2025) EllapsedTime: 702.2 seconds RetCode: 1 Status: ERROR CheckDir: ReactomeGSA.Rcheck Warnings: NA