Package: ReactomeGSA Version: 1.24.0 Command: /home/biocbuild/R/R/bin/R CMD build --keep-empty-dirs --no-resave-data ReactomeGSA StartedAt: 2025-11-11 04:25:23 -0000 (Tue, 11 Nov 2025) EndedAt: 2025-11-11 04:32:43 -0000 (Tue, 11 Nov 2025) EllapsedTime: 439.2 seconds RetCode: 0 Status: OK PackageFile: ReactomeGSA_1.24.0.tar.gz PackageFileSize: 197.4 KiB