Package: ReactomeGSA Version: 1.24.0 Command: /home/biocbuild/bbs-3.22-bioc/R/bin/R CMD check --install=check:ReactomeGSA.install-out.txt --library=/home/biocbuild/bbs-3.22-bioc/R/site-library --timings ReactomeGSA_1.24.0.tar.gz StartedAt: 2025-11-12 03:13:41 -0500 (Wed, 12 Nov 2025) EndedAt: 2025-11-12 03:29:45 -0500 (Wed, 12 Nov 2025) EllapsedTime: 964.1 seconds RetCode: 0 Status: OK CheckDir: ReactomeGSA.Rcheck Warnings: 0