Package: ReactomeGSA Version: 1.22.0 Command: /home/biocbuild/bbs-3.21-bioc/R/bin/R CMD check --install=check:ReactomeGSA.install-out.txt --library=/home/biocbuild/bbs-3.21-bioc/R/site-library --timings ReactomeGSA_1.22.0.tar.gz StartedAt: 2025-09-29 02:43:43 -0400 (Mon, 29 Sep 2025) EndedAt: 2025-09-29 03:02:28 -0400 (Mon, 29 Sep 2025) EllapsedTime: 1125.0 seconds RetCode: 1 Status: ERROR CheckDir: ReactomeGSA.Rcheck Warnings: NA