Package: ReactomeGSA Version: 1.22.0 Command: /Library/Frameworks/R.framework/Resources/bin/R CMD check --install=check:ReactomeGSA.install-out.txt --library=/Library/Frameworks/R.framework/Resources/library --no-vignettes --timings ReactomeGSA_1.22.0.tar.gz StartedAt: 2025-10-01 09:08:09 -0400 (Wed, 01 Oct 2025) EndedAt: 2025-10-01 09:21:55 -0400 (Wed, 01 Oct 2025) EllapsedTime: 826.2 seconds RetCode: 0 Status: OK CheckDir: ReactomeGSA.Rcheck Warnings: 0