Package: ReactomeContentService4R Version: 1.16.0 Command: /home/biocbuild/R/R/bin/R CMD build --keep-empty-dirs --no-resave-data ReactomeContentService4R StartedAt: 2025-09-26 05:12:14 -0000 (Fri, 26 Sep 2025) EndedAt: 2025-09-26 05:13:21 -0000 (Fri, 26 Sep 2025) EllapsedTime: 67.0 seconds RetCode: 0 Status: OK PackageFile: ReactomeContentService4R_1.16.0.tar.gz PackageFileSize: 2.352 MiB