Package: ReUseData Version: 1.10.0 Command: /home/biocbuild/R/R/bin/R CMD INSTALL ReUseData StartedAt: 2025-11-10 21:18:37 -0000 (Mon, 10 Nov 2025) EndedAt: 2025-11-10 21:19:06 -0000 (Mon, 10 Nov 2025) EllapsedTime: 29.1 seconds RetCode: 0 Status: OK