Package: ReUseData Version: 1.10.0 Command: /home/biocbuild/R/R/bin/R CMD build --keep-empty-dirs --no-resave-data ReUseData StartedAt: 2025-11-11 04:29:12 -0000 (Tue, 11 Nov 2025) EndedAt: 2025-11-11 04:30:22 -0000 (Tue, 11 Nov 2025) EllapsedTime: 70.0 seconds RetCode: 0 Status: OK PackageFile: ReUseData_1.10.0.tar.gz PackageFileSize: 1.088 MiB