Package: ReUseData Version: 1.10.0 Command: /home/biocbuild/bbs-3.22-bioc/R/bin/R CMD INSTALL ReUseData StartedAt: 2025-11-11 15:17:16 -0500 (Tue, 11 Nov 2025) EndedAt: 2025-11-11 15:17:31 -0500 (Tue, 11 Nov 2025) EllapsedTime: 14.2 seconds RetCode: 0 Status: OK