Package: ReUseData Version: 1.8.0 Command: /Library/Frameworks/R.framework/Resources/bin/R CMD INSTALL ReUseData StartedAt: 2025-09-29 15:20:46 -0400 (Mon, 29 Sep 2025) EndedAt: 2025-09-29 15:21:26 -0400 (Mon, 29 Sep 2025) EllapsedTime: 39.1 seconds RetCode: 0 Status: OK