Package: ReUseData Version: 1.8.0 Command: /Library/Frameworks/R.framework/Resources/bin/R CMD build --keep-empty-dirs --no-resave-data ReUseData StartedAt: 2025-09-29 21:58:09 -0400 (Mon, 29 Sep 2025) EndedAt: 2025-09-29 22:00:02 -0400 (Mon, 29 Sep 2025) EllapsedTime: 113.5 seconds RetCode: 0 Status: OK PackageFile: ReUseData_1.8.0.tar.gz PackageFileSize: 915.5 KiB