Package: Rdisop Version: 1.70.0 Command: /Library/Frameworks/R.framework/Resources/bin/R CMD INSTALL Rdisop StartedAt: 2025-10-31 15:05:02 -0400 (Fri, 31 Oct 2025) EndedAt: 2025-10-31 15:05:16 -0400 (Fri, 31 Oct 2025) EllapsedTime: 14.3 seconds RetCode: 0 Status: OK