Package: Rdisop Version: 1.70.0 Command: rm -rf Rdisop.buildbin-libdir && mkdir Rdisop.buildbin-libdir && /Users/biocbuild/BBS/utils/build-universal.sh Rdisop_1.70.0.tar.gz /Library/Frameworks/R.framework/Resources/bin/R Rdisop.buildbin-libdir StartedAt: 2025-10-31 23:19:50 -0400 (Fri, 31 Oct 2025) EndedAt: 2025-10-31 23:20:02 -0400 (Fri, 31 Oct 2025) EllapsedTime: 12.3 seconds RetCode: 0 Status: OK PackageFile: Rdisop_1.70.0.tgz PackageFileSize: 234.5 KiB