Package: RcwlPipelines Version: 1.26.0 Command: /home/biocbuild/bbs-3.22-bioc/R/bin/R CMD INSTALL RcwlPipelines StartedAt: 2025-11-11 15:17:03 -0500 (Tue, 11 Nov 2025) EndedAt: 2025-11-11 15:17:16 -0500 (Tue, 11 Nov 2025) EllapsedTime: 13.1 seconds RetCode: 0 Status: OK