Package: RcwlPipelines Version: 1.26.0 Command: /home/biocbuild/bbs-3.22-bioc/R/bin/R CMD check --install=check:RcwlPipelines.install-out.txt --library=/home/biocbuild/bbs-3.22-bioc/R/site-library --timings RcwlPipelines_1.26.0.tar.gz StartedAt: 2025-11-12 03:12:42 -0500 (Wed, 12 Nov 2025) EndedAt: 2025-11-12 03:14:47 -0500 (Wed, 12 Nov 2025) EllapsedTime: 125.2 seconds RetCode: 0 Status: OK CheckDir: RcwlPipelines.Rcheck Warnings: 0