Package: RcwlPipelines Version: 1.26.0 Command: /home/biocbuild/bbs-3.22-bioc/R/bin/R CMD build --keep-empty-dirs --no-resave-data --md5 RcwlPipelines StartedAt: 2025-11-11 19:40:20 -0500 (Tue, 11 Nov 2025) EndedAt: 2025-11-11 19:40:54 -0500 (Tue, 11 Nov 2025) EllapsedTime: 34.1 seconds RetCode: 0 Status: OK PackageFile: RcwlPipelines_1.26.0.tar.gz PackageFileSize: 877.9 KiB