Package: RcwlPipelines Version: 1.24.0 Command: /Library/Frameworks/R.framework/Resources/bin/R CMD INSTALL RcwlPipelines StartedAt: 2025-10-13 15:22:46 -0400 (Mon, 13 Oct 2025) EndedAt: 2025-10-13 15:23:16 -0400 (Mon, 13 Oct 2025) EllapsedTime: 29.7 seconds RetCode: 0 Status: OK