Package: RcwlPipelines Version: 1.24.0 Command: /Library/Frameworks/R.framework/Resources/bin/R CMD build --keep-empty-dirs --no-resave-data RcwlPipelines StartedAt: 2025-10-13 21:54:15 -0400 (Mon, 13 Oct 2025) EndedAt: 2025-10-13 21:55:38 -0400 (Mon, 13 Oct 2025) EllapsedTime: 83.5 seconds RetCode: 0 Status: OK PackageFile: RcwlPipelines_1.24.0.tar.gz PackageFileSize: 877.4 KiB