Package: Rcwl Version: 1.26.0 Command: /home/biocbuild/R/R/bin/R CMD INSTALL Rcwl StartedAt: 2025-11-13 21:18:20 -0000 (Thu, 13 Nov 2025) EndedAt: 2025-11-13 21:18:35 -0000 (Thu, 13 Nov 2025) EllapsedTime: 14.6 seconds RetCode: 0 Status: OK