Package: Rcwl Version: 1.26.0 Command: /home/biocbuild/R/R/bin/R CMD build --keep-empty-dirs --no-resave-data Rcwl StartedAt: 2025-11-14 04:29:43 -0000 (Fri, 14 Nov 2025) EndedAt: 2025-11-14 04:30:28 -0000 (Fri, 14 Nov 2025) EllapsedTime: 45.0 seconds RetCode: 0 Status: OK PackageFile: Rcwl_1.26.0.tar.gz PackageFileSize: 1.336 MiB