Package: Rcwl Version: 1.24.0 Command: /home/biocbuild/bbs-3.21-bioc/R/bin/R CMD INSTALL Rcwl StartedAt: 2025-10-12 15:12:01 -0400 (Sun, 12 Oct 2025) EndedAt: 2025-10-12 15:12:12 -0400 (Sun, 12 Oct 2025) EllapsedTime: 10.7 seconds RetCode: 0 Status: OK