Package: Rcwl Version: 1.24.0 Command: /home/biocbuild/bbs-3.21-bioc/R/bin/R CMD build --keep-empty-dirs --no-resave-data Rcwl StartedAt: 2025-10-12 19:26:37 -0400 (Sun, 12 Oct 2025) EndedAt: 2025-10-12 19:27:13 -0400 (Sun, 12 Oct 2025) EllapsedTime: 36.1 seconds RetCode: 0 Status: OK PackageFile: Rcwl_1.24.0.tar.gz PackageFileSize: 1.024 MiB