Package: Rcwl Version: 1.26.0 Command: /Library/Frameworks/R.framework/Resources/bin/R CMD build --keep-empty-dirs --no-resave-data Rcwl StartedAt: 2025-11-03 18:24:06 -0500 (Mon, 03 Nov 2025) EndedAt: 2025-11-03 18:34:08 -0500 (Mon, 03 Nov 2025) EllapsedTime: 602.2 seconds RetCode: 1 Status: ERROR PackageFile: None PackageFileSize: NA