Package: Rcwl Version: 1.24.0 Command: /Library/Frameworks/R.framework/Resources/bin/R CMD INSTALL Rcwl StartedAt: 2025-10-09 15:33:28 -0400 (Thu, 09 Oct 2025) EndedAt: 2025-10-09 15:33:42 -0400 (Thu, 09 Oct 2025) EllapsedTime: 13.6 seconds RetCode: 0 Status: OK