Package: Rcwl Version: 1.24.0 Command: /Library/Frameworks/R.framework/Resources/bin/R CMD build --keep-empty-dirs --no-resave-data Rcwl StartedAt: 2025-10-10 07:49:02 -0400 (Fri, 10 Oct 2025) EndedAt: 2025-10-10 07:50:01 -0400 (Fri, 10 Oct 2025) EllapsedTime: 58.9 seconds RetCode: 0 Status: OK PackageFile: Rcwl_1.24.0.tar.gz PackageFileSize: 1.024 MiB