Package: Rcpi Version: 1.46.0 Command: /home/biocbuild/bbs-3.22-bioc/R/bin/R CMD build --keep-empty-dirs --no-resave-data --md5 Rcpi StartedAt: 2025-11-13 19:38:56 -0500 (Thu, 13 Nov 2025) EndedAt: 2025-11-13 19:39:16 -0500 (Thu, 13 Nov 2025) EllapsedTime: 20.0 seconds RetCode: 0 Status: OK PackageFile: Rcpi_1.46.0.tar.gz PackageFileSize: 2.979 MiB