Package: Rcpi Version: 1.46.0 Command: /Library/Frameworks/R.framework/Resources/bin/R CMD INSTALL Rcpi StartedAt: 2025-11-10 15:20:19 -0500 (Mon, 10 Nov 2025) EndedAt: 2025-11-10 15:20:25 -0500 (Mon, 10 Nov 2025) EllapsedTime: 6.2 seconds RetCode: 0 Status: OK