Package: Rcpi Version: 1.46.0 Command: rm -rf Rcpi.buildbin-libdir && mkdir Rcpi.buildbin-libdir && /Users/biocbuild/BBS/utils/build-universal.sh Rcpi_1.46.0.tar.gz /Library/Frameworks/R.framework/Resources/bin/R Rcpi.buildbin-libdir StartedAt: 2025-11-10 23:32:43 -0500 (Mon, 10 Nov 2025) EndedAt: 2025-11-10 23:32:50 -0500 (Mon, 10 Nov 2025) EllapsedTime: 7.1 seconds RetCode: 0 Status: OK PackageFile: Rcpi_1.46.0.tgz PackageFileSize: 2.592 MiB