Package: Rcollectl Version: 1.10.0 Command: /home/biocbuild/bbs-3.22-bioc/R/bin/R CMD build --keep-empty-dirs --no-resave-data --md5 Rcollectl StartedAt: 2025-11-25 20:02:25 -0500 (Tue, 25 Nov 2025) EndedAt: 2025-11-25 20:02:49 -0500 (Tue, 25 Nov 2025) EllapsedTime: 24.0 seconds RetCode: 0 Status: OK PackageFile: Rcollectl_1.10.0.tar.gz PackageFileSize: 540.3 KiB