Package: RcisTarget Version: 1.30.0 Command: /home/biocbuild/R/R/bin/R CMD INSTALL RcisTarget StartedAt: 2025-11-13 21:41:14 -0000 (Thu, 13 Nov 2025) EndedAt: 2025-11-13 21:42:07 -0000 (Thu, 13 Nov 2025) EllapsedTime: 52.4 seconds RetCode: 0 Status: OK