Package: RcisTarget Version: 1.30.0 Command: /home/biocbuild/R/R/bin/R CMD build --keep-empty-dirs --no-resave-data RcisTarget StartedAt: 2025-11-14 04:28:24 -0000 (Fri, 14 Nov 2025) EndedAt: 2025-11-14 04:30:07 -0000 (Fri, 14 Nov 2025) EllapsedTime: 103.0 seconds RetCode: 0 Status: OK PackageFile: RcisTarget_1.30.0.tar.gz PackageFileSize: 12.9 MiB