Package: RcisTarget Version: 1.30.0 Command: /home/biocbuild/bbs-3.22-bioc/R/bin/R CMD check --install=check:RcisTarget.install-out.txt --library=/home/biocbuild/bbs-3.22-bioc/R/site-library --timings RcisTarget_1.30.0.tar.gz StartedAt: 2025-11-12 03:12:23 -0500 (Wed, 12 Nov 2025) EndedAt: 2025-11-12 03:18:46 -0500 (Wed, 12 Nov 2025) EllapsedTime: 383.4 seconds RetCode: 1 Status: ERROR CheckDir: RcisTarget.Rcheck Warnings: NA