Package: RcisTarget Version: 1.28.1 Command: /Library/Frameworks/R.framework/Resources/bin/R CMD INSTALL RcisTarget StartedAt: 2025-10-13 15:59:47 -0400 (Mon, 13 Oct 2025) EndedAt: 2025-10-13 16:01:09 -0400 (Mon, 13 Oct 2025) EllapsedTime: 81.8 seconds RetCode: 0 Status: OK