Package: RcisTarget Version: 1.28.1 Command: /Library/Frameworks/R.framework/Resources/bin/R CMD build --keep-empty-dirs --no-resave-data RcisTarget StartedAt: 2025-10-13 21:53:29 -0400 (Mon, 13 Oct 2025) EndedAt: 2025-10-13 21:56:09 -0400 (Mon, 13 Oct 2025) EllapsedTime: 160.4 seconds RetCode: 0 Status: OK PackageFile: RcisTarget_1.28.1.tar.gz PackageFileSize: 12.84 MiB