Package: RcisTarget Version: 1.28.1 Command: rm -rf RcisTarget.buildbin-libdir && mkdir RcisTarget.buildbin-libdir && /Users/biocbuild/BBS/utils/build-universal.sh RcisTarget_1.28.1.tar.gz /Library/Frameworks/R.framework/Resources/bin/R RcisTarget.buildbin-libdir StartedAt: 2025-10-14 14:29:49 -0400 (Tue, 14 Oct 2025) EndedAt: 2025-10-14 14:31:40 -0400 (Tue, 14 Oct 2025) EllapsedTime: 111.4 seconds RetCode: 0 Status: OK PackageFile: RcisTarget_1.28.1.tgz PackageFileSize: 13.01 MiB