Package: RcisTarget Version: 1.28.1 Command: /Library/Frameworks/R.framework/Resources/bin/R CMD INSTALL RcisTarget StartedAt: 2025-09-29 17:00:51 -0400 (Mon, 29 Sep 2025) EndedAt: 2025-09-29 17:01:39 -0400 (Mon, 29 Sep 2025) EllapsedTime: 48.3 seconds RetCode: 0 Status: OK