Package: RcisTarget Version: 1.28.1 Command: rm -rf RcisTarget.buildbin-libdir && mkdir RcisTarget.buildbin-libdir && /Users/biocbuild/BBS/utils/build-universal.sh RcisTarget_1.28.1.tar.gz /Library/Frameworks/R.framework/Resources/bin/R RcisTarget.buildbin-libdir StartedAt: 2025-09-27 18:58:55 -0400 (Sat, 27 Sep 2025) EndedAt: 2025-09-27 18:59:41 -0400 (Sat, 27 Sep 2025) EllapsedTime: 46.4 seconds RetCode: 0 Status: OK PackageFile: RcisTarget_1.28.1.tgz PackageFileSize: 13.01 MiB