Package: Rbwa Version: 1.14.0 Command: /home/biocbuild/bbs-3.22-bioc/R/bin/R CMD INSTALL Rbwa StartedAt: 2025-11-06 15:01:23 -0500 (Thu, 06 Nov 2025) EndedAt: 2025-11-06 15:01:41 -0500 (Thu, 06 Nov 2025) EllapsedTime: 17.8 seconds RetCode: 0 Status: OK