Package: Rbwa Version: 1.14.0 Command: /home/biocbuild/bbs-3.22-bioc/R/bin/R CMD build --keep-empty-dirs --no-resave-data --md5 Rbwa StartedAt: 2025-11-05 19:40:38 -0500 (Wed, 05 Nov 2025) EndedAt: 2025-11-05 19:40:57 -0500 (Wed, 05 Nov 2025) EllapsedTime: 19.0 seconds RetCode: 0 Status: OK PackageFile: Rbwa_1.14.0.tar.gz PackageFileSize: 654.4 KiB