Package: Rbowtie2 Version: 2.16.0 Command: /home/biocbuild/bbs-3.22-bioc/R/bin/R CMD check --install=check:Rbowtie2.install-out.txt --library=/home/biocbuild/bbs-3.22-bioc/R/site-library --timings Rbowtie2_2.16.0.tar.gz StartedAt: 2025-11-14 03:13:27 -0500 (Fri, 14 Nov 2025) EndedAt: 2025-11-14 03:13:56 -0500 (Fri, 14 Nov 2025) EllapsedTime: 29.1 seconds RetCode: 0 Status: OK CheckDir: Rbowtie2.Rcheck Warnings: 0